BEGIN:VCALENDAR
VERSION:2.0
PRODID:-//www.hopecommunitychurch.life//NONSGML kigkonsult.se iCalcreator 2
 .39.1//
CALSCALE:GREGORIAN
METHOD:PUBLISH
UID:0dfb6ada-ede3-4871-bae9-62be17980530
X-WR-CALNAME:www.hopecommunitychurch.life
X-WR-CALDESC:www.hopecommunitychurch.life
X-WR-TIMEZONE:America/Los_Angeles
X-LIC-LOCATION:America/Los_Angeles
BEGIN:VEVENT
UID:9b6c62d3-7511-481d-967d-66775aaa25ef
DTSTAMP:20260422T004934Z
CLASS:PUBLIC
DTSTART;TZID=America/Los_Angeles:20250910T180000
DTEND;TZID=America/Los_Angeles:20250910T193000
LOCATION:Hope Community Church
SUMMARY:Youth Group | 6:00-7:30 PM
TRANSP:OPAQUE
BEGIN:VALARM
ACTION:DISPLAY
DESCRIPTION:Youth Group | 6:00-7:30 PM
TRIGGER:-PT15M
END:VALARM
END:VEVENT
END:VCALENDAR
