BEGIN:VCALENDAR
VERSION:2.0
PRODID:-//www.hopecommunitychurch.life//NONSGML kigkonsult.se iCalcreator 2
 .39.1//
CALSCALE:GREGORIAN
METHOD:PUBLISH
UID:73babd32-625a-4f50-8bae-eb9b22d1b85a
X-WR-CALNAME:www.hopecommunitychurch.life
X-WR-CALDESC:www.hopecommunitychurch.life
X-WR-TIMEZONE:America/Los_Angeles
X-LIC-LOCATION:America/Los_Angeles
BEGIN:VEVENT
UID:d0ab28fa-cd1a-443b-94da-5a06ca40365b
DTSTAMP:20260423T102419Z
CLASS:PUBLIC
DTSTART;TZID=America/Los_Angeles:20260426T073000
DTEND;TZID=America/Los_Angeles:20260426T090000
SUMMARY:Men's Community Group | 7:30 - 9:00 AM
TRANSP:OPAQUE
BEGIN:VALARM
ACTION:DISPLAY
DESCRIPTION:Men's Community Group | 7:30 - 9:00 AM
TRIGGER:-PT15M
END:VALARM
END:VEVENT
END:VCALENDAR
